BEGIN:VCALENDAR
VERSION:2.0
PRODID:-//Gialogo and Associates - ECPv6.13.2.1//NONSGML v1.0//EN
CALSCALE:GREGORIAN
METHOD:PUBLISH
X-WR-CALNAME:Gialogo and Associates
X-ORIGINAL-URL:https://gialogolaw.com
X-WR-CALDESC:Events for Gialogo and Associates
REFRESH-INTERVAL;VALUE=DURATION:PT1H
X-Robots-Tag:noindex
X-PUBLISHED-TTL:PT1H
BEGIN:VTIMEZONE
TZID:Asia/Shanghai
BEGIN:STANDARD
TZOFFSETFROM:+0800
TZOFFSETTO:+0800
TZNAME:CST
DTSTART:20210101T000000
END:STANDARD
END:VTIMEZONE
BEGIN:VEVENT
DTSTART;VALUE=DATE:20211115
DTEND;VALUE=DATE:20211116
DTSTAMP:20260425T015908
CREATED:20211111T180019Z
LAST-MODIFIED:20211111T180019Z
UID:120-1636934400-1637020799@gialogolaw.com
SUMMARY:Last Day of Substitution - TEST DATA
DESCRIPTION:Today is the last day of substitution for both local and national positions.
URL:https://gialogolaw.com/event/last-day-of-substitution-test-data/
LOCATION:COMELEC\, Philippines
END:VEVENT
END:VCALENDAR